BEGIN:VCALENDAR
VERSION:2.0
PRODID:-//Xavier Charter School - ECPv6.15.17//NONSGML v1.0//EN
CALSCALE:GREGORIAN
METHOD:PUBLISH
X-ORIGINAL-URL:https://xaviercharter.org
X-WR-CALDESC:Events for Xavier Charter School
REFRESH-INTERVAL;VALUE=DURATION:PT1H
X-Robots-Tag:noindex
X-PUBLISHED-TTL:PT1H
BEGIN:VTIMEZONE
TZID:America/Denver
BEGIN:DAYLIGHT
TZOFFSETFROM:-0700
TZOFFSETTO:-0600
TZNAME:MDT
DTSTART:20230312T090000
END:DAYLIGHT
BEGIN:STANDARD
TZOFFSETFROM:-0600
TZOFFSETTO:-0700
TZNAME:MST
DTSTART:20231105T080000
END:STANDARD
BEGIN:DAYLIGHT
TZOFFSETFROM:-0700
TZOFFSETTO:-0600
TZNAME:MDT
DTSTART:20240310T090000
END:DAYLIGHT
BEGIN:STANDARD
TZOFFSETFROM:-0600
TZOFFSETTO:-0700
TZNAME:MST
DTSTART:20241103T080000
END:STANDARD
BEGIN:DAYLIGHT
TZOFFSETFROM:-0700
TZOFFSETTO:-0600
TZNAME:MDT
DTSTART:20250309T090000
END:DAYLIGHT
BEGIN:STANDARD
TZOFFSETFROM:-0600
TZOFFSETTO:-0700
TZNAME:MST
DTSTART:20251102T080000
END:STANDARD
END:VTIMEZONE
BEGIN:VEVENT
DTSTART;TZID=America/Denver:20241210T150000
DTEND;TZID=America/Denver:20241210T155000
DTSTAMP:20260423T115013
CREATED:20240824T040341Z
LAST-MODIFIED:20241210T001816Z
UID:10000141-1733842800-1733845800@xaviercharter.org
SUMMARY:STEM Club Meeting
DESCRIPTION:
URL:https://xaviercharter.org/event/stem-club-meeting-13/
LOCATION:XCS Room 404
END:VEVENT
BEGIN:VEVENT
DTSTART;TZID=America/Denver:20241203T150000
DTEND;TZID=America/Denver:20241203T155000
DTSTAMP:20260423T115013
CREATED:20240824T040341Z
LAST-MODIFIED:20241203T224814Z
UID:10000140-1733238000-1733241000@xaviercharter.org
SUMMARY:STEM Club Meeting
DESCRIPTION:
URL:https://xaviercharter.org/event/stem-club-meeting-12/
LOCATION:XCS Room 404
END:VEVENT
BEGIN:VEVENT
DTSTART;TZID=America/Denver:20241119T150000
DTEND;TZID=America/Denver:20241119T155000
DTSTAMP:20260423T115013
CREATED:20240824T040340Z
LAST-MODIFIED:20241118T233225Z
UID:10000139-1732028400-1732031400@xaviercharter.org
SUMMARY:STEM Club Meeting
DESCRIPTION:
URL:https://xaviercharter.org/event/stem-club-meeting-11/
LOCATION:XCS Room 404
END:VEVENT
BEGIN:VEVENT
DTSTART;TZID=America/Denver:20241112T150000
DTEND;TZID=America/Denver:20241112T155000
DTSTAMP:20260423T115013
CREATED:20240824T040339Z
LAST-MODIFIED:20241111T231715Z
UID:10000138-1731423600-1731426600@xaviercharter.org
SUMMARY:STEM Club Meeting
DESCRIPTION:
URL:https://xaviercharter.org/event/stem-club-meeting-10/
LOCATION:XCS Room 404
END:VEVENT
BEGIN:VEVENT
DTSTART;TZID=America/Denver:20241105T150000
DTEND;TZID=America/Denver:20241105T155000
DTSTAMP:20260423T115013
CREATED:20240824T040338Z
LAST-MODIFIED:20241105T224817Z
UID:10000136-1730818800-1730821800@xaviercharter.org
SUMMARY:STEM Club Meeting
DESCRIPTION:
URL:https://xaviercharter.org/event/stem-club-meeting-9/
LOCATION:XCS Room 404
END:VEVENT
BEGIN:VEVENT
DTSTART;TZID=America/Denver:20241029T150000
DTEND;TZID=America/Denver:20241029T155000
DTSTAMP:20260423T115013
CREATED:20240824T040337Z
LAST-MODIFIED:20241028T223247Z
UID:10000135-1730214000-1730217000@xaviercharter.org
SUMMARY:STEM Club Meeting
DESCRIPTION:
URL:https://xaviercharter.org/event/stem-club-meeting-8/
LOCATION:XCS Room 404
END:VEVENT
BEGIN:VEVENT
DTSTART;TZID=America/Denver:20241022T150000
DTEND;TZID=America/Denver:20241022T155000
DTSTAMP:20260423T115013
CREATED:20240824T040337Z
LAST-MODIFIED:20241022T213230Z
UID:10000133-1729609200-1729612200@xaviercharter.org
SUMMARY:STEM Club Meeting
DESCRIPTION:
URL:https://xaviercharter.org/event/stem-club-meeting-7/
LOCATION:XCS Room 404
END:VEVENT
BEGIN:VEVENT
DTSTART;TZID=America/Denver:20241015T150000
DTEND;TZID=America/Denver:20241015T155000
DTSTAMP:20260423T115013
CREATED:20240824T040336Z
LAST-MODIFIED:20241015T213256Z
UID:10000132-1729004400-1729007400@xaviercharter.org
SUMMARY:STEM Club Meeting
DESCRIPTION:
URL:https://xaviercharter.org/event/stem-club-meeting-6/
LOCATION:XCS Room 404
END:VEVENT
BEGIN:VEVENT
DTSTART;TZID=America/Denver:20241008T150000
DTEND;TZID=America/Denver:20241008T155000
DTSTAMP:20260423T115013
CREATED:20240824T040336Z
LAST-MODIFIED:20241008T204719Z
UID:10000131-1728399600-1728402600@xaviercharter.org
SUMMARY:STEM Club Meeting
DESCRIPTION:
URL:https://xaviercharter.org/event/stem-club-meeting-5/
LOCATION:XCS Room 404
END:VEVENT
BEGIN:VEVENT
DTSTART;TZID=America/Denver:20241001T150000
DTEND;TZID=America/Denver:20241001T155000
DTSTAMP:20260423T115013
CREATED:20240824T040335Z
LAST-MODIFIED:20241001T201715Z
UID:10000130-1727794800-1727797800@xaviercharter.org
SUMMARY:STEM Club Meeting
DESCRIPTION:
URL:https://xaviercharter.org/event/stem-club-meeting-4/
LOCATION:XCS Room 404
END:VEVENT
BEGIN:VEVENT
DTSTART;TZID=America/Denver:20240924T150000
DTEND;TZID=America/Denver:20240924T155000
DTSTAMP:20260423T115013
CREATED:20240824T040335Z
LAST-MODIFIED:20240924T120400Z
UID:10000129-1727190000-1727193000@xaviercharter.org
SUMMARY:STEM Club Meeting
DESCRIPTION:
URL:https://xaviercharter.org/event/stem-club-meeting-3-2/
LOCATION:XCS Room 404
END:VEVENT
BEGIN:VEVENT
DTSTART;TZID=America/Denver:20240917T150000
DTEND;TZID=America/Denver:20240917T155000
DTSTAMP:20260423T115013
CREATED:20240824T040334Z
LAST-MODIFIED:20240917T185545Z
UID:10000128-1726585200-1726588200@xaviercharter.org
SUMMARY:STEM Club Meeting
DESCRIPTION:
URL:https://xaviercharter.org/event/stem-club-meeting-2/
LOCATION:XCS Room 404
END:VEVENT
BEGIN:VEVENT
DTSTART;TZID=America/Denver:20240910T150000
DTEND;TZID=America/Denver:20240910T155000
DTSTAMP:20260423T115013
CREATED:20240824T040334Z
LAST-MODIFIED:20240910T025552Z
UID:10000127-1725980400-1725983400@xaviercharter.org
SUMMARY:STEM Club Meeting
DESCRIPTION:
URL:https://xaviercharter.org/event/stem-club-meeting/
LOCATION:XCS Room 404
END:VEVENT
END:VCALENDAR