BEGIN:VCALENDAR
VERSION:2.0
PRODID:-//Xavier Charter School - ECPv6.15.17//NONSGML v1.0//EN
CALSCALE:GREGORIAN
METHOD:PUBLISH
X-ORIGINAL-URL:https://xaviercharter.org
X-WR-CALDESC:Events for Xavier Charter School
REFRESH-INTERVAL;VALUE=DURATION:PT1H
X-Robots-Tag:noindex
X-PUBLISHED-TTL:PT1H
BEGIN:VTIMEZONE
TZID:America/Denver
BEGIN:DAYLIGHT
TZOFFSETFROM:-0700
TZOFFSETTO:-0600
TZNAME:MDT
DTSTART:20240310T090000
END:DAYLIGHT
BEGIN:STANDARD
TZOFFSETFROM:-0600
TZOFFSETTO:-0700
TZNAME:MST
DTSTART:20241103T080000
END:STANDARD
BEGIN:DAYLIGHT
TZOFFSETFROM:-0700
TZOFFSETTO:-0600
TZNAME:MDT
DTSTART:20250309T090000
END:DAYLIGHT
BEGIN:STANDARD
TZOFFSETFROM:-0600
TZOFFSETTO:-0700
TZNAME:MST
DTSTART:20251102T080000
END:STANDARD
BEGIN:DAYLIGHT
TZOFFSETFROM:-0700
TZOFFSETTO:-0600
TZNAME:MDT
DTSTART:20260308T090000
END:DAYLIGHT
BEGIN:STANDARD
TZOFFSETFROM:-0600
TZOFFSETTO:-0700
TZNAME:MST
DTSTART:20261101T080000
END:STANDARD
BEGIN:DAYLIGHT
TZOFFSETFROM:-0700
TZOFFSETTO:-0600
TZNAME:MDT
DTSTART:20270314T090000
END:DAYLIGHT
BEGIN:STANDARD
TZOFFSETFROM:-0600
TZOFFSETTO:-0700
TZNAME:MST
DTSTART:20271107T080000
END:STANDARD
END:VTIMEZONE
BEGIN:VEVENT
DTSTART;TZID=America/Denver:20260401T150000
DTEND;TZID=America/Denver:20260401T160000
DTSTAMP:20260423T070452
CREATED:20250925T100625Z
LAST-MODIFIED:20260401T133143Z
UID:10000454-1775055600-1775059200@xaviercharter.org
SUMMARY:STEM Club- 3D Printing
DESCRIPTION:
URL:https://xaviercharter.org/event/stem-club-3d-printing-23/
LOCATION:XCS Room 404
END:VEVENT
BEGIN:VEVENT
DTSTART;TZID=America/Denver:20260318T150000
DTEND;TZID=America/Denver:20260318T160000
DTSTAMP:20260423T070452
CREATED:20250925T100624Z
LAST-MODIFIED:20260317T223500Z
UID:10000452-1773846000-1773849600@xaviercharter.org
SUMMARY:STEM Club- 3D Printing
DESCRIPTION:
URL:https://xaviercharter.org/event/stem-club-3d-printing-22/
LOCATION:XCS Room 404
END:VEVENT
BEGIN:VEVENT
DTSTART;TZID=America/Denver:20260311T150000
DTEND;TZID=America/Denver:20260311T160000
DTSTAMP:20260423T070452
CREATED:20250925T100623Z
LAST-MODIFIED:20260311T130820Z
UID:10000450-1773241200-1773244800@xaviercharter.org
SUMMARY:STEM Club- 3D Printing
DESCRIPTION:
URL:https://xaviercharter.org/event/stem-club-3d-printing-21/
LOCATION:XCS Room 404
END:VEVENT
BEGIN:VEVENT
DTSTART;TZID=America/Denver:20260304T150000
DTEND;TZID=America/Denver:20260304T160000
DTSTAMP:20260423T070452
CREATED:20250925T100622Z
LAST-MODIFIED:20260304T115322Z
UID:10000448-1772636400-1772640000@xaviercharter.org
SUMMARY:STEM Club- 3D Printing
DESCRIPTION:
URL:https://xaviercharter.org/event/stem-club-3d-printing-20/
LOCATION:XCS Room 404
END:VEVENT
BEGIN:VEVENT
DTSTART;TZID=America/Denver:20260225T150000
DTEND;TZID=America/Denver:20260225T160000
DTSTAMP:20260423T070452
CREATED:20250925T100621Z
LAST-MODIFIED:20260225T025238Z
UID:10000446-1772031600-1772035200@xaviercharter.org
SUMMARY:STEM Club- 3D Printing
DESCRIPTION:
URL:https://xaviercharter.org/event/stem-club-3d-printing-19/
LOCATION:XCS Room 404
END:VEVENT
BEGIN:VEVENT
DTSTART;TZID=America/Denver:20260218T150000
DTEND;TZID=America/Denver:20260218T160000
DTSTAMP:20260423T070452
CREATED:20250925T100621Z
LAST-MODIFIED:20260218T153735Z
UID:10000444-1771426800-1771430400@xaviercharter.org
SUMMARY:STEM Club- 3D Printing
DESCRIPTION:
URL:https://xaviercharter.org/event/stem-club-3d-printing-18/
LOCATION:XCS Room 404
END:VEVENT
BEGIN:VEVENT
DTSTART;TZID=America/Denver:20260211T150000
DTEND;TZID=America/Denver:20260211T160000
DTSTAMP:20260423T070452
CREATED:20250925T100620Z
LAST-MODIFIED:20260211T141826Z
UID:10000443-1770822000-1770825600@xaviercharter.org
SUMMARY:STEM Club- 3D Printing
DESCRIPTION:
URL:https://xaviercharter.org/event/stem-club-3d-printing-17/
LOCATION:XCS Room 404
END:VEVENT
BEGIN:VEVENT
DTSTART;TZID=America/Denver:20260204T150000
DTEND;TZID=America/Denver:20260204T160000
DTSTAMP:20260423T070452
CREATED:20250925T100618Z
LAST-MODIFIED:20260204T123704Z
UID:10000441-1770217200-1770220800@xaviercharter.org
SUMMARY:STEM Club- 3D Printing
DESCRIPTION:
URL:https://xaviercharter.org/event/stem-club-3d-printing-16/
LOCATION:XCS Room 404
END:VEVENT
BEGIN:VEVENT
DTSTART;TZID=America/Denver:20260128T150000
DTEND;TZID=America/Denver:20260128T160000
DTSTAMP:20260423T070452
CREATED:20250925T100617Z
LAST-MODIFIED:20260128T082507Z
UID:10000439-1769612400-1769616000@xaviercharter.org
SUMMARY:STEM Club- 3D Printing
DESCRIPTION:
URL:https://xaviercharter.org/event/stem-club-3d-printing-15/
LOCATION:XCS Room 404
END:VEVENT
BEGIN:VEVENT
DTSTART;TZID=America/Denver:20260121T150000
DTEND;TZID=America/Denver:20260121T160000
DTSTAMP:20260423T070452
CREATED:20250925T100616Z
LAST-MODIFIED:20260121T195656Z
UID:10000437-1769007600-1769011200@xaviercharter.org
SUMMARY:STEM Club- 3D Printing
DESCRIPTION:
URL:https://xaviercharter.org/event/stem-club-3d-printing-14/
LOCATION:XCS Room 404
END:VEVENT
BEGIN:VEVENT
DTSTART;TZID=America/Denver:20260114T150000
DTEND;TZID=America/Denver:20260114T160000
DTSTAMP:20260423T070452
CREATED:20250925T100615Z
LAST-MODIFIED:20260114T222525Z
UID:10000435-1768402800-1768406400@xaviercharter.org
SUMMARY:STEM Club- 3D Printing
DESCRIPTION:
URL:https://xaviercharter.org/event/stem-club-3d-printing-13/
LOCATION:XCS Room 404
END:VEVENT
BEGIN:VEVENT
DTSTART;TZID=America/Denver:20260107T150000
DTEND;TZID=America/Denver:20260107T160000
DTSTAMP:20260423T070452
CREATED:20250925T100614Z
LAST-MODIFIED:20260107T102711Z
UID:10000433-1767798000-1767801600@xaviercharter.org
SUMMARY:STEM Club- 3D Printing
DESCRIPTION:
URL:https://xaviercharter.org/event/stem-club-3d-printing-12/
LOCATION:XCS Room 404
END:VEVENT
BEGIN:VEVENT
DTSTART;TZID=America/Denver:20251217T150000
DTEND;TZID=America/Denver:20251217T160000
DTSTAMP:20260423T070452
CREATED:20250925T100612Z
LAST-MODIFIED:20251216T182641Z
UID:10000431-1765983600-1765987200@xaviercharter.org
SUMMARY:STEM Club- 3D Printing
DESCRIPTION:
URL:https://xaviercharter.org/event/stem-club-3d-printing-11/
LOCATION:XCS Room 404
END:VEVENT
BEGIN:VEVENT
DTSTART;TZID=America/Denver:20251210T150000
DTEND;TZID=America/Denver:20251210T160000
DTSTAMP:20260423T070452
CREATED:20250925T100611Z
LAST-MODIFIED:20251210T152354Z
UID:10000429-1765378800-1765382400@xaviercharter.org
SUMMARY:STEM Club- 3D Printing
DESCRIPTION:
URL:https://xaviercharter.org/event/stem-club-3d-printing-10/
LOCATION:XCS Room 404
END:VEVENT
BEGIN:VEVENT
DTSTART;TZID=America/Denver:20251203T150000
DTEND;TZID=America/Denver:20251203T160000
DTSTAMP:20260423T070453
CREATED:20250925T100610Z
LAST-MODIFIED:20251203T171046Z
UID:10000427-1764774000-1764777600@xaviercharter.org
SUMMARY:STEM Club- 3D Printing
DESCRIPTION:
URL:https://xaviercharter.org/event/stem-club-3d-printing-9/
LOCATION:XCS Room 404
END:VEVENT
BEGIN:VEVENT
DTSTART;TZID=America/Denver:20251119T150000
DTEND;TZID=America/Denver:20251119T160000
DTSTAMP:20260423T070453
CREATED:20250925T100609Z
LAST-MODIFIED:20251119T011745Z
UID:10000425-1763564400-1763568000@xaviercharter.org
SUMMARY:STEM Club- 3D Printing
DESCRIPTION:
URL:https://xaviercharter.org/event/stem-club-3d-printing-8/
LOCATION:XCS Room 404
END:VEVENT
BEGIN:VEVENT
DTSTART;TZID=America/Denver:20251112T150000
DTEND;TZID=America/Denver:20251112T160000
DTSTAMP:20260423T070453
CREATED:20250925T100608Z
LAST-MODIFIED:20251112T061814Z
UID:10000423-1762959600-1762963200@xaviercharter.org
SUMMARY:STEM Club- 3D Printing
DESCRIPTION:
URL:https://xaviercharter.org/event/stem-club-3d-printing-7/
LOCATION:XCS Room 404
END:VEVENT
BEGIN:VEVENT
DTSTART;TZID=America/Denver:20251105T150000
DTEND;TZID=America/Denver:20251105T160000
DTSTAMP:20260423T070453
CREATED:20250925T100606Z
LAST-MODIFIED:20251105T212522Z
UID:10000421-1762354800-1762358400@xaviercharter.org
SUMMARY:STEM Club- 3D Printing
DESCRIPTION:
URL:https://xaviercharter.org/event/stem-club-3d-printing-6/
LOCATION:XCS Room 404
END:VEVENT
BEGIN:VEVENT
DTSTART;TZID=America/Denver:20251029T150000
DTEND;TZID=America/Denver:20251029T160000
DTSTAMP:20260423T070453
CREATED:20250925T100604Z
LAST-MODIFIED:20251029T213920Z
UID:10000419-1761750000-1761753600@xaviercharter.org
SUMMARY:STEM Club- 3D Printing
DESCRIPTION:
URL:https://xaviercharter.org/event/stem-club-3d-printing-5/
LOCATION:XCS Room 404
END:VEVENT
BEGIN:VEVENT
DTSTART;TZID=America/Denver:20251022T150000
DTEND;TZID=America/Denver:20251022T160000
DTSTAMP:20260423T070453
CREATED:20250925T100604Z
LAST-MODIFIED:20251022T172653Z
UID:10000417-1761145200-1761148800@xaviercharter.org
SUMMARY:STEM Club- 3D Printing
DESCRIPTION:
URL:https://xaviercharter.org/event/stem-club-3d-printing-4/
LOCATION:XCS Room 404
END:VEVENT
BEGIN:VEVENT
DTSTART;TZID=America/Denver:20251015T150000
DTEND;TZID=America/Denver:20251015T160000
DTSTAMP:20260423T070453
CREATED:20250925T100602Z
LAST-MODIFIED:20251015T075123Z
UID:10000415-1760540400-1760544000@xaviercharter.org
SUMMARY:STEM Club- 3D Printing
DESCRIPTION:
URL:https://xaviercharter.org/event/stem-club-3d-printing-3/
LOCATION:XCS Room 404
END:VEVENT
BEGIN:VEVENT
DTSTART;TZID=America/Denver:20251008T150000
DTEND;TZID=America/Denver:20251008T160000
DTSTAMP:20260423T070453
CREATED:20250925T100601Z
LAST-MODIFIED:20250930T102116Z
UID:10000413-1759935600-1759939200@xaviercharter.org
SUMMARY:STEM Club- 3D Printing
DESCRIPTION:
URL:https://xaviercharter.org/event/stem-club-3d-printing-2/
LOCATION:XCS Room 404
END:VEVENT
BEGIN:VEVENT
DTSTART;TZID=America/Denver:20251001T150000
DTEND;TZID=America/Denver:20251001T160000
DTSTAMP:20260423T070453
CREATED:20250925T100600Z
LAST-MODIFIED:20250930T102115Z
UID:10000411-1759330800-1759334400@xaviercharter.org
SUMMARY:STEM Club- 3D Printing
DESCRIPTION:
URL:https://xaviercharter.org/event/stem-club-3d-printing/
LOCATION:XCS Room 404
END:VEVENT
BEGIN:VEVENT
DTSTART;TZID=America/Denver:20250401T150000
DTEND;TZID=America/Denver:20250401T155000
DTSTAMP:20260423T070453
CREATED:20240824T040350Z
LAST-MODIFIED:20250401T070822Z
UID:10000155-1743519600-1743522600@xaviercharter.org
SUMMARY:STEM Club Meeting
DESCRIPTION:
URL:https://xaviercharter.org/event/stem-club-meeting-26/
LOCATION:XCS Room 404
END:VEVENT
BEGIN:VEVENT
DTSTART;TZID=America/Denver:20250318T150000
DTEND;TZID=America/Denver:20250318T155000
DTSTAMP:20260423T070453
CREATED:20240824T040349Z
LAST-MODIFIED:20250318T065311Z
UID:10000154-1742310000-1742313000@xaviercharter.org
SUMMARY:STEM Club Meeting
DESCRIPTION:
URL:https://xaviercharter.org/event/stem-club-meeting-25/
LOCATION:XCS Room 404
END:VEVENT
BEGIN:VEVENT
DTSTART;TZID=America/Denver:20250311T150000
DTEND;TZID=America/Denver:20250311T155000
DTSTAMP:20260423T070453
CREATED:20240824T040348Z
LAST-MODIFIED:20250311T062208Z
UID:10000153-1741705200-1741708200@xaviercharter.org
SUMMARY:STEM Club Meeting
DESCRIPTION:
URL:https://xaviercharter.org/event/stem-club-meeting-24/
LOCATION:XCS Room 404
END:VEVENT
BEGIN:VEVENT
DTSTART;TZID=America/Denver:20250304T150000
DTEND;TZID=America/Denver:20250304T155000
DTSTAMP:20260423T070453
CREATED:20240824T040347Z
LAST-MODIFIED:20250304T055212Z
UID:10000152-1741100400-1741103400@xaviercharter.org
SUMMARY:STEM Club Meeting
DESCRIPTION:
URL:https://xaviercharter.org/event/stem-club-meeting-23/
LOCATION:XCS Room 404
END:VEVENT
BEGIN:VEVENT
DTSTART;TZID=America/Denver:20250225T150000
DTEND;TZID=America/Denver:20250225T155000
DTSTAMP:20260423T070453
CREATED:20240824T040347Z
LAST-MODIFIED:20250225T053904Z
UID:10000151-1740495600-1740498600@xaviercharter.org
SUMMARY:STEM Club Meeting
DESCRIPTION:
URL:https://xaviercharter.org/event/stem-club-meeting-22/
LOCATION:XCS Room 404
END:VEVENT
BEGIN:VEVENT
DTSTART;TZID=America/Denver:20250218T150000
DTEND;TZID=America/Denver:20250218T155000
DTSTAMP:20260423T070453
CREATED:20240824T040347Z
LAST-MODIFIED:20250218T045216Z
UID:10000150-1739890800-1739893800@xaviercharter.org
SUMMARY:STEM Club Meeting
DESCRIPTION:
URL:https://xaviercharter.org/event/stem-club-meeting-21/
LOCATION:XCS Room 404
END:VEVENT
BEGIN:VEVENT
DTSTART;TZID=America/Denver:20250211T150000
DTEND;TZID=America/Denver:20250211T155000
DTSTAMP:20260423T070453
CREATED:20240824T040346Z
LAST-MODIFIED:20250211T040700Z
UID:10000149-1739286000-1739289000@xaviercharter.org
SUMMARY:STEM Club Meeting
DESCRIPTION:
URL:https://xaviercharter.org/event/stem-club-meeting-20/
LOCATION:XCS Room 404
END:VEVENT
END:VCALENDAR