BEGIN:VCALENDAR
VERSION:2.0
PRODID:-//Xavier Charter School - ECPv6.15.17//NONSGML v1.0//EN
CALSCALE:GREGORIAN
METHOD:PUBLISH
X-WR-CALNAME:Xavier Charter School
X-ORIGINAL-URL:https://xaviercharter.org
X-WR-CALDESC:Events for Xavier Charter School
REFRESH-INTERVAL;VALUE=DURATION:PT1H
X-Robots-Tag:noindex
X-PUBLISHED-TTL:PT1H
BEGIN:VTIMEZONE
TZID:America/Denver
BEGIN:DAYLIGHT
TZOFFSETFROM:-0700
TZOFFSETTO:-0600
TZNAME:MDT
DTSTART:20250309T090000
END:DAYLIGHT
BEGIN:STANDARD
TZOFFSETFROM:-0600
TZOFFSETTO:-0700
TZNAME:MST
DTSTART:20251102T080000
END:STANDARD
BEGIN:DAYLIGHT
TZOFFSETFROM:-0700
TZOFFSETTO:-0600
TZNAME:MDT
DTSTART:20260308T090000
END:DAYLIGHT
BEGIN:STANDARD
TZOFFSETFROM:-0600
TZOFFSETTO:-0700
TZNAME:MST
DTSTART:20261101T080000
END:STANDARD
BEGIN:DAYLIGHT
TZOFFSETFROM:-0700
TZOFFSETTO:-0600
TZNAME:MDT
DTSTART:20270314T090000
END:DAYLIGHT
BEGIN:STANDARD
TZOFFSETFROM:-0600
TZOFFSETTO:-0700
TZNAME:MST
DTSTART:20271107T080000
END:STANDARD
END:VTIMEZONE
BEGIN:VEVENT
DTSTART;VALUE=DATE:20260420
DTEND;VALUE=DATE:20260421
DTSTAMP:20260420T133523
CREATED:20250312T062342Z
LAST-MODIFIED:20260420T015826Z
UID:10000287-1776643200-1776729599@xaviercharter.org
SUMMARY:No School - Teacher Inservice
DESCRIPTION:
URL:https://xaviercharter.org/event/no-school-teacher-inservice-13/
END:VEVENT
BEGIN:VEVENT
DTSTART;TZID=America/Denver:20260420T173000
DTEND;TZID=America/Denver:20260420T200000
DTSTAMP:20260420T133523
CREATED:20260128T082546Z
LAST-MODIFIED:20260420T015826Z
UID:10000499-1776706200-1776715200@xaviercharter.org
SUMMARY:Skateland Family Night
DESCRIPTION:
URL:https://xaviercharter.org/event/skateland-family-night-2/
LOCATION:Skateland\, 2100 Kimberly Rd\, Twin Falls\, ID\, United States
GEO:42.548576;-114.442396
X-APPLE-STRUCTURED-LOCATION;VALUE=URI;X-ADDRESS=Skateland 2100 Kimberly Rd Twin Falls ID United States;X-APPLE-RADIUS=500;X-TITLE=2100 Kimberly Rd:geo:-114.442396,42.548576
END:VEVENT
END:VCALENDAR