BEGIN:VCALENDAR
VERSION:2.0
PRODID:-//Xavier Charter School - ECPv6.15.17//NONSGML v1.0//EN
CALSCALE:GREGORIAN
METHOD:PUBLISH
X-WR-CALNAME:Xavier Charter School
X-ORIGINAL-URL:https://xaviercharter.org
X-WR-CALDESC:Events for Xavier Charter School
REFRESH-INTERVAL;VALUE=DURATION:PT1H
X-Robots-Tag:noindex
X-PUBLISHED-TTL:PT1H
BEGIN:VTIMEZONE
TZID:America/Denver
BEGIN:DAYLIGHT
TZOFFSETFROM:-0700
TZOFFSETTO:-0600
TZNAME:MDT
DTSTART:20230312T090000
END:DAYLIGHT
BEGIN:STANDARD
TZOFFSETFROM:-0600
TZOFFSETTO:-0700
TZNAME:MST
DTSTART:20231105T080000
END:STANDARD
BEGIN:DAYLIGHT
TZOFFSETFROM:-0700
TZOFFSETTO:-0600
TZNAME:MDT
DTSTART:20240310T090000
END:DAYLIGHT
BEGIN:STANDARD
TZOFFSETFROM:-0600
TZOFFSETTO:-0700
TZNAME:MST
DTSTART:20241103T080000
END:STANDARD
BEGIN:DAYLIGHT
TZOFFSETFROM:-0700
TZOFFSETTO:-0600
TZNAME:MDT
DTSTART:20250309T090000
END:DAYLIGHT
BEGIN:STANDARD
TZOFFSETFROM:-0600
TZOFFSETTO:-0700
TZNAME:MST
DTSTART:20251102T080000
END:STANDARD
END:VTIMEZONE
BEGIN:VEVENT
DTSTART;TZID=America/Denver:20241120T180000
DTEND;TZID=America/Denver:20241120T190000
DTSTAMP:20260421T235926
CREATED:20240906T174429Z
LAST-MODIFIED:20241120T233308Z
UID:8201-1732125600-1732129200@xaviercharter.org
SUMMARY:Joust! A Medieval Musical
DESCRIPTION:Our 6th-grade students will be performing "Joust! A Medieval Musical" this November\, and it promises to be an unforgettable experience for everyone involved. This year\, we're especially excited as our entire Fine Arts department is coming together to make this performance truly spectacular!
URL:https://xaviercharter.org/event/joust-a-medieval-musical/
LOCATION:XCS Stage\, 1218 North College Rd. W.\, Twin Falls\, ID\, 83301\, United States
END:VEVENT
END:VCALENDAR